BEGIN:VCALENDAR
VERSION:2.0
PRODID:-//Podere San Michele - ECPv6.0.4//NONSGML v1.0//EN
CALSCALE:GREGORIAN
METHOD:PUBLISH
X-WR-CALNAME:Podere San Michele
X-ORIGINAL-URL:https://www.poderesanmichelebeb.it
X-WR-CALDESC:Eventi per Podere San Michele
REFRESH-INTERVAL;VALUE=DURATION:PT1H
X-Robots-Tag:noindex
X-PUBLISHED-TTL:PT1H
BEGIN:VTIMEZONE
TZID:Europe/Rome
BEGIN:DAYLIGHT
TZOFFSETFROM:+0100
TZOFFSETTO:+0200
TZNAME:CEST
DTSTART:20200329T010000
END:DAYLIGHT
BEGIN:STANDARD
TZOFFSETFROM:+0200
TZOFFSETTO:+0100
TZNAME:CET
DTSTART:20201025T010000
END:STANDARD
END:VTIMEZONE
BEGIN:VEVENT
DTSTART;TZID=Europe/Rome:20200622T080000
DTEND;TZID=Europe/Rome:20200629T170000
DTSTAMP:20260421T032235
CREATED:20191217T155228Z
LAST-MODIFIED:20191217T155347Z
UID:1261-1592812800-1593450000@www.poderesanmichelebeb.it
SUMMARY:PRENOTATO
DESCRIPTION:
URL:https://www.poderesanmichelebeb.it/event/prenotazione/
LOCATION:Podere San Michele
END:VEVENT
END:VCALENDAR